BEGIN:VCALENDAR
VERSION:2.0
PRODID:-//Sabre//Sabre VObject 4.5.8//EN
CALSCALE:GREGORIAN
BEGIN:VEVENT
UID:sabre-vobject-512b301a-e05d-447c-803d-6eadb7c5ce5f
DTSTAMP:20260425T005745Z
SUMMARY:Hl. Messe
DESCRIPTION:https://demo.churchsystem.de/hl-messe_id44815
DTSTART;TZID=Europe/Berlin:20260520T191500
DURATION:PT30M
END:VEVENT
END:VCALENDAR
