BEGIN:VCALENDAR
VERSION:2.0
PRODID:-//Sabre//Sabre VObject 4.5.8//EN
CALSCALE:GREGORIAN
BEGIN:VEVENT
UID:sabre-vobject-4c2f798f-bd3c-43b7-b088-0d05a4e4e762
DTSTAMP:20260424T183408Z
SUMMARY:Pfarrgottesdienst
DESCRIPTION:https://demo.churchsystem.de/pfarrgottesdienst_id44814
DTSTART;TZID=Europe/Berlin:20260503T100000
DURATION:PT30M
LOCATION:St. Wolfgang\, \,  
END:VEVENT
END:VCALENDAR
