BEGIN:VCALENDAR
VERSION:2.0
PRODID:-//Sabre//Sabre VObject 4.5.8//EN
CALSCALE:GREGORIAN
BEGIN:VEVENT
UID:sabre-vobject-d7f904b1-b88c-4e34-b16a-c01cc9bd0b36
DTSTAMP:20260424T165845Z
SUMMARY:Rosenkranz um gute Witterung
DESCRIPTION:https://demo.churchsystem.de/rosenkranz-um-gute-witterung_id448
 13
DTSTART;TZID=Europe/Berlin:20260515T083000
DURATION:PT30M
END:VEVENT
END:VCALENDAR
