BEGIN:VCALENDAR
VERSION:2.0
PRODID:-//Sabre//Sabre VObject 4.5.8//EN
CALSCALE:GREGORIAN
BEGIN:VEVENT
UID:sabre-vobject-fa44d148-081e-408e-92a7-8faf8386a7f4
DTSTAMP:20260424T165844Z
SUMMARY:Festgottesdienst in Eggenthal
DESCRIPTION:https://demo.churchsystem.de/festgottesdienst-in-eggenthal_id44
 812
DTSTART;TZID=Europe/Berlin:20260514T000000
DURATION:PT30M
END:VEVENT
END:VCALENDAR
