BEGIN:VCALENDAR
VERSION:2.0
PRODID:-//Sabre//Sabre VObject 4.5.8//EN
CALSCALE:GREGORIAN
BEGIN:VEVENT
UID:sabre-vobject-d9969559-15f1-4a99-b74c-90e6ae1c5b78
DTSTAMP:20260424T183408Z
SUMMARY:"Ewige Anbetung"\n Aussetzung des Allerheiligsten - Rosenkranz - Eu
 charistische Andacht - Eucharistischer Segen
DESCRIPTION:https://demo.churchsystem.de/ewige-anbetung-aussetzung-des-alle
 rheiligsten-rosenkranz-eucharistische-andacht-eucharistischer-segen_id4481
 1
DTSTART;TZID=Europe/Berlin:20260503T130000
DURATION:PT30M
END:VEVENT
END:VCALENDAR
