BEGIN:VCALENDAR
VERSION:2.0
PRODID:-//Sabre//Sabre VObject 4.5.8//EN
CALSCALE:GREGORIAN
BEGIN:VEVENT
UID:sabre-vobject-85c88c7b-e5b5-4756-af00-9b0b4993a556
DTSTAMP:20260424T213808Z
SUMMARY:Pfarrgottesdienst
DESCRIPTION:https://demo.churchsystem.de/pfarrgottesdienst_id44810
DTSTART;TZID=Europe/Berlin:20260503T083000
DURATION:PT30M
END:VEVENT
END:VCALENDAR
