BEGIN:VCALENDAR
VERSION:2.0
PRODID:-//Sabre//Sabre VObject 4.5.8//EN
CALSCALE:GREGORIAN
BEGIN:VEVENT
UID:sabre-vobject-c7aef837-4022-4b3f-8d23-37b139d6a10d
DTSTAMP:20260425T005644Z
SUMMARY:Trauung in der Seelenkapelle Reiter Markus - Geier Amanda
DESCRIPTION:https://demo.churchsystem.de/trauung-in-der-seelenkapelle-reite
 r-markus-geier-amanda_id44809
DTSTART;TZID=Europe/Berlin:20260502T113000
DURATION:PT30M
END:VEVENT
END:VCALENDAR
