BEGIN:VCALENDAR
VERSION:2.0
PRODID:-//Sabre//Sabre VObject 4.5.8//EN
CALSCALE:GREGORIAN
BEGIN:VEVENT
UID:sabre-vobject-16262ef1-ac15-4cb1-add3-ce874fd46276
DTSTAMP:20260424T183318Z
SUMMARY:Rosenkranz zu Ehren der Mutter Gottes
DESCRIPTION:https://demo.churchsystem.de/rosenkranz-zu-ehren-der-mutter-got
 tes_id44808
DTSTART;TZID=Europe/Berlin:20260508T080000
DURATION:PT30M
LOCATION:St. Wolfgang\, \,  
END:VEVENT
END:VCALENDAR
