BEGIN:VCALENDAR
VERSION:2.0
PRODID:-//Sabre//Sabre VObject 4.5.8//EN
CALSCALE:GREGORIAN
BEGIN:VEVENT
UID:sabre-vobject-075bfa54-efc6-43ee-b5c3-416bafb8c5da
DTSTAMP:20260424T185251Z
SUMMARY:Rosenkranz zu Ehren der Mutter Gottes
DESCRIPTION:https://demo.churchsystem.de/rosenkranz-zu-ehren-der-mutter-got
 tes_id44805
DTSTART;TZID=Europe/Berlin:20260504T080000
DURATION:PT30M
LOCATION:St. Wolfgang\, \,  
END:VEVENT
END:VCALENDAR
