BEGIN:VCALENDAR
VERSION:2.0
PRODID:-//Sabre//Sabre VObject 4.5.8//EN
CALSCALE:GREGORIAN
BEGIN:VEVENT
UID:sabre-vobject-a4387b31-e5df-4508-ae33-01f815c07433
DTSTAMP:20260424T214307Z
SUMMARY:Pfarrgottesdienst in Baisweil
DESCRIPTION:https://demo.churchsystem.de/pfarrgottesdienst-in-baisweil_id44
 804
DTSTART;TZID=Europe/Berlin:20260517T000000
DURATION:PT30M
END:VEVENT
END:VCALENDAR
