BEGIN:VCALENDAR
VERSION:2.0
PRODID:-//Sabre//Sabre VObject 4.5.8//EN
CALSCALE:GREGORIAN
BEGIN:VEVENT
UID:sabre-vobject-75a9217a-2efa-4ba9-a9b7-c6825b2ec325
DTSTAMP:20260424T171550Z
SUMMARY:Bittmesse an der Grotte (bei schlechtem Wetter um 19:15 Uhr Messe i
 n der Pfarrkirche)
DESCRIPTION:https://demo.churchsystem.de/bittmesse-an-der-grotte-bei-schlec
 htem-wetter-um-19-15-uhr-messe-in-der-pfarrkirche_id44803
DTSTART;TZID=Europe/Berlin:20260511T193000
DURATION:PT30M
END:VEVENT
END:VCALENDAR
