BEGIN:VCALENDAR
VERSION:2.0
PRODID:-//Sabre//Sabre VObject 4.5.8//EN
CALSCALE:GREGORIAN
BEGIN:VEVENT
UID:sabre-vobject-4041f61a-23eb-4576-b6e9-997747b5e914
DTSTAMP:20260424T171552Z
SUMMARY:Bittgang zur Grotte  - Treffpunkt am Dorfplatz (bei gutem Wetter)
DESCRIPTION:https://demo.churchsystem.de/bittgang-zur-grotte-treffpunkt-am-
 dorfplatz-bei-gutem-wetter_id44802
DTSTART;TZID=Europe/Berlin:20260511T191000
DURATION:PT30M
END:VEVENT
END:VCALENDAR
