BEGIN:VCALENDAR
VERSION:2.0
PRODID:-//Sabre//Sabre VObject 4.5.8//EN
CALSCALE:GREGORIAN
BEGIN:VEVENT
UID:sabre-vobject-d9e49bd3-256c-46f2-9297-222be59c9002
DTSTAMP:20260424T165807Z
SUMMARY:Pfarrgottesdienst in Eggenthal
DESCRIPTION:https://demo.churchsystem.de/pfarrgottesdienst-in-eggenthal_id4
 4801
DTSTART;TZID=Europe/Berlin:20260510T000000
DURATION:PT30M
END:VEVENT
END:VCALENDAR
