BEGIN:VCALENDAR
VERSION:2.0
PRODID:-//Sabre//Sabre VObject 4.5.8//EN
CALSCALE:GREGORIAN
BEGIN:VEVENT
UID:sabre-vobject-790bbfc6-5b88-4d01-a030-f03ba22bc3b1
DTSTAMP:20260424T165808Z
SUMMARY:Hl. Messe
DESCRIPTION:https://demo.churchsystem.de/hl-messe_id44799
DTSTART;TZID=Europe/Berlin:20260504T191500
DURATION:PT30M
END:VEVENT
END:VCALENDAR
