BEGIN:VCALENDAR
VERSION:2.0
PRODID:-//Sabre//Sabre VObject 4.5.8//EN
CALSCALE:GREGORIAN
BEGIN:VEVENT
UID:sabre-vobject-6e68bcbe-a4fd-412e-b2d8-ddc974adf70b
DTSTAMP:20260424T171552Z
SUMMARY:"Ewige Anbetung"\n Aussetzung des Allerheiligsten - Rosenkranz - Eu
 charistische Andacht - Eucharistischer Segen
DESCRIPTION:https://demo.churchsystem.de/ewige-anbetung-aussetzung-des-alle
 rheiligsten-rosenkranz-eucharistische-andacht-eucharistischer-segen_id4479
 8
DTSTART;TZID=Europe/Berlin:20260504T184500
DURATION:PT30M
END:VEVENT
END:VCALENDAR
