BEGIN:VCALENDAR
VERSION:2.0
PRODID:-//Sabre//Sabre VObject 4.5.8//EN
CALSCALE:GREGORIAN
BEGIN:VEVENT
UID:sabre-vobject-beb24cb0-1e39-4179-b237-6b85a11e67ee
DTSTAMP:20260424T165818Z
SUMMARY:Pfarrgottesdienst mit Erstkommunionfeier
DESCRIPTION:https://demo.churchsystem.de/pfarrgottesdienst-mit-erstkommunio
 nfeier_id44797
DTSTART;TZID=Europe/Berlin:20260503T100000
DURATION:PT30M
END:VEVENT
END:VCALENDAR
