BEGIN:VCALENDAR
VERSION:2.0
PRODID:-//Sabre//Sabre VObject 4.5.8//EN
CALSCALE:GREGORIAN
BEGIN:VEVENT
UID:sabre-vobject-89a3154c-2b06-4754-8d47-5062b8b61906
DTSTAMP:20260424T183307Z
SUMMARY:"Singen macht Spaß" im Pfarrheim
DESCRIPTION:https://demo.churchsystem.de/singen-macht-spass-im-pfarrheim_id
 44796
DTSTART;TZID=Europe/Berlin:20260522T193000
DURATION:PT30M
END:VEVENT
END:VCALENDAR
