BEGIN:VCALENDAR
VERSION:2.0
PRODID:-//Sabre//Sabre VObject 4.5.8//EN
CALSCALE:GREGORIAN
BEGIN:VEVENT
UID:sabre-vobject-3e13ff60-f34f-49c5-868b-c20cd9c76f8a
DTSTAMP:20260424T214307Z
SUMMARY:Gebetsnetz vom Kath. Landvolk in der Maria-Seelenkapelle\n
DESCRIPTION:https://demo.churchsystem.de/gebetsnetz-vom-kath-landvolk-in-de
 r-maria-seelenkapelle_id44795
DTSTART;TZID=Europe/Berlin:20260521T000000
DURATION:PT30M
END:VEVENT
END:VCALENDAR
