BEGIN:VCALENDAR
VERSION:2.0
PRODID:-//Sabre//Sabre VObject 4.5.8//EN
CALSCALE:GREGORIAN
BEGIN:VEVENT
UID:sabre-vobject-ed30c0f9-86b6-4a2a-929a-e9cb4c70cf86
DTSTAMP:20260424T201813Z
SUMMARY:Dankgottesdienst zur Goldenen Hochzeit von Irmgard und Norbert Pfau
 dler
DESCRIPTION:https://demo.churchsystem.de/dankgottesdienst-zur-goldenen-hoch
 zeit-von-irmgard-und-norbert-pfaudler_id44789
DTSTART;TZID=Europe/Berlin:20260516T103000
DURATION:PT30M
END:VEVENT
END:VCALENDAR
