BEGIN:VCALENDAR
VERSION:2.0
PRODID:-//Sabre//Sabre VObject 4.5.8//EN
CALSCALE:GREGORIAN
BEGIN:VEVENT
UID:sabre-vobject-59bfbda6-9e9a-4055-a722-939332343c7e
DTSTAMP:20260424T232153Z
SUMMARY:Rosenkranz in der Maria-Seelenkapelle
DESCRIPTION:https://demo.churchsystem.de/rosenkranz-in-der-maria-seelenkape
 lle_id44788
DTSTART;TZID=Europe/Berlin:20260510T130000
DURATION:PT30M
END:VEVENT
END:VCALENDAR
