BEGIN:VCALENDAR
VERSION:2.0
PRODID:-//Sabre//Sabre VObject 4.5.8//EN
CALSCALE:GREGORIAN
BEGIN:VEVENT
UID:sabre-vobject-c7fa3e70-0099-4f7e-b5de-6d8d93b7e868
DTSTAMP:20260424T134112Z
SUMMARY:Führung in der Maria-Seelenkapelle (Teilnahme ohne Anmeldung)
DESCRIPTION:https://demo.churchsystem.de/fuehrung-in-der-maria-seelenkapell
 e-teilnahme-ohne-anmeldung_id44787
DTSTART;TZID=Europe/Berlin:20260426T133000
DURATION:PT30M
END:VEVENT
END:VCALENDAR
