BEGIN:VCALENDAR
VERSION:2.0
PRODID:-//Sabre//Sabre VObject 4.5.8//EN
CALSCALE:GREGORIAN
BEGIN:VEVENT
UID:sabre-vobject-5aa41346-d63f-4290-8e39-b03da2b5f469
DTSTAMP:20260424T134113Z
SUMMARY:Requiem u. Urnenbeisetzung von Elisabeth Urbin
DESCRIPTION:https://demo.churchsystem.de/requiem-u-urnenbeisetzung-von-elis
 abeth-urbin_id44786
DTSTART;TZID=Europe/Berlin:20260425T103000
DURATION:PT30M
END:VEVENT
END:VCALENDAR
