BEGIN:VCALENDAR
VERSION:2.0
PRODID:-//Sabre//Sabre VObject 4.5.8//EN
CALSCALE:GREGORIAN
BEGIN:VEVENT
UID:sabre-vobject-2a1d72c8-a494-41ba-9100-7fe3ff4dc1c4
DTSTAMP:20260424T183447Z
SUMMARY:Hl. Messe zum Kommunionausflug
DESCRIPTION:https://demo.churchsystem.de/hl-messe-zum-kommunionausflug_id44
 785
DTSTART;TZID=Europe/Berlin:20260522T081500
DURATION:PT30M
LOCATION:St. Wolfgang\, \,  
END:VEVENT
END:VCALENDAR
