BEGIN:VCALENDAR
VERSION:2.0
PRODID:-//Sabre//Sabre VObject 4.5.8//EN
CALSCALE:GREGORIAN
BEGIN:VEVENT
UID:sabre-vobject-3cbb3cea-5d0a-498c-a2d7-69e5ff3e8e87
DTSTAMP:20260424T165807Z
SUMMARY:Rosenkranz um die Gaben des Hl. Geistes
DESCRIPTION:https://demo.churchsystem.de/rosenkranz-um-die-gaben-des-hl-gei
 stes_id44780
DTSTART;TZID=Europe/Berlin:20260522T083000
DURATION:PT30M
END:VEVENT
END:VCALENDAR
