BEGIN:VCALENDAR
VERSION:2.0
PRODID:-//Sabre//Sabre VObject 4.5.8//EN
CALSCALE:GREGORIAN
BEGIN:VEVENT
UID:sabre-vobject-8e6d5e24-e232-4f85-8916-f7c5a1106d8a
DTSTAMP:20260424T171553Z
SUMMARY:Festgottesdienst zum Hochfest Christi Himmelfahrt anschl. Flurumgan
 g
DESCRIPTION:https://demo.churchsystem.de/festgottesdienst-zum-hochfest-chri
 sti-himmelfahrt-anschl-flurumgang_id44779
DTSTART;TZID=Europe/Berlin:20260517T100000
DURATION:PT30M
END:VEVENT
END:VCALENDAR
