BEGIN:VCALENDAR
VERSION:2.0
PRODID:-//Sabre//Sabre VObject 4.5.8//EN
CALSCALE:GREGORIAN
BEGIN:VEVENT
UID:sabre-vobject-9420d1b8-34da-424b-8e01-1e4ed5a7caca
DTSTAMP:20260424T134114Z
SUMMARY:Patrozinium St. Nikolaus
DESCRIPTION:https://demo.churchsystem.de/patrozinium-st-nikolaus_id44239
DTSTART;TZID=Europe/Berlin:20260531T120000
DTEND;TZID=Europe/Berlin:20260531T130000
LOCATION:St. Nikolaus\, \,  
END:VEVENT
END:VCALENDAR
