BEGIN:VCALENDAR
VERSION:2.0
PRODID:-//Sabre//Sabre VObject 4.5.8//EN
CALSCALE:GREGORIAN
BEGIN:VEVENT
UID:sabre-vobject-a4289b60-4312-4aa6-8394-c509c323cbcb
DTSTAMP:20260425T024050Z
SUMMARY:Beichte der Erstkommunionkinder (Friesenried und Bayersried)
DESCRIPTION:https://demo.churchsystem.de/beichte-der-erstkommunionkinder-fr
 iesenried-und-bayersried_id44033
DTSTART;TZID=Europe/Berlin:20260422T150000
DURATION:PT30M
LOCATION:St. Joseph\, \,  
END:VEVENT
END:VCALENDAR
