BEGIN:VCALENDAR
VERSION:2.0
PRODID:-//Sabre//Sabre VObject 4.5.8//EN
CALSCALE:GREGORIAN
BEGIN:VEVENT
UID:sabre-vobject-c403ad05-3664-47a1-a407-068903e5be7b
DTSTAMP:20260424T171551Z
SUMMARY:Rosenkranz für die Kranken in unserer Pfarrei
DESCRIPTION:https://demo.churchsystem.de/rosenkranz-fuer-die-kranken-in-uns
 erer-pfarrei_id44022
DTSTART;TZID=Europe/Berlin:20260424T080000
DURATION:PT30M
LOCATION:St. Wolfgang\, \,  
END:VEVENT
END:VCALENDAR
