BEGIN:VCALENDAR
VERSION:2.0
PRODID:-//Sabre//Sabre VObject 4.5.8//EN
CALSCALE:GREGORIAN
BEGIN:VEVENT
UID:sabre-vobject-39e693f2-1ade-4997-bde2-775b0a398711
DTSTAMP:20260424T201813Z
SUMMARY:Beichte der Erstkommunionkinder
DESCRIPTION:https://demo.churchsystem.de/beichte-der-erstkommunionkinder_id
 44021
DTSTART;TZID=Europe/Berlin:20260423T150000
DURATION:PT30M
LOCATION:St. Wolfgang\, \,  
END:VEVENT
END:VCALENDAR
