BEGIN:VCALENDAR
VERSION:2.0
PRODID:-//Sabre//Sabre VObject 4.5.8//EN
CALSCALE:GREGORIAN
BEGIN:VEVENT
UID:sabre-vobject-7eb5b72b-6ae7-4bae-813d-ca1a6dd02cfe
DTSTAMP:20260424T154940Z
SUMMARY:Pfarrgottesdienst in Eggenthal
DESCRIPTION:https://demo.churchsystem.de/pfarrgottesdienst-in-eggenthal_id4
 4005
DTSTART;TZID=Europe/Berlin:20260426T000000
DURATION:PT30M
END:VEVENT
END:VCALENDAR
