BEGIN:VCALENDAR
VERSION:2.0
PRODID:-//Sabre//Sabre VObject 4.5.8//EN
CALSCALE:GREGORIAN
BEGIN:VEVENT
UID:sabre-vobject-0ff1b114-d78c-4a22-9520-294170e021af
DTSTAMP:20260424T153013Z
SUMMARY:Rosenkranz für die Kranken in unserer Pfarrei
DESCRIPTION:https://demo.churchsystem.de/rosenkranz-fuer-die-kranken-in-uns
 erer-pfarrei_id44004
DTSTART;TZID=Europe/Berlin:20260424T083000
DURATION:PT30M
END:VEVENT
END:VCALENDAR
