BEGIN:VCALENDAR
VERSION:2.0
PRODID:-//Sabre//Sabre VObject 4.5.8//EN
CALSCALE:GREGORIAN
BEGIN:VEVENT
UID:sabre-vobject-72c7cee2-5361-4e06-9800-54ebe2e21f35
DTSTAMP:20260425T011225Z
SUMMARY:Rosenkranz für die Kranken in unserer Pfarrei
DESCRIPTION:https://demo.churchsystem.de/rosenkranz-fuer-die-kranken-in-uns
 erer-pfarrei_id43997
DTSTART;TZID=Europe/Berlin:20260422T184500
DURATION:PT30M
END:VEVENT
END:VCALENDAR
